BEGIN:VCALENDAR
VERSION:2.0
PRODID:Events Booking
BEGIN:VEVENT
UID:69eba4acb4f74
SUMMARY:Billionaire Robert F. Smith Hosts HBCU AWARE FEST 2026 – Atlanta
 ’s Biggest HBCU Fundraiser Ever
DESCRIPTION:BEGIN:VCALENDAR
 VERSION:2.0
 PRODID:-//HBCU AWARE FEST//EN

  CALSCALE:GREGORIAN
 METHOD:PUBLISH
 X-WR-CALNAME:HBCU AWARE FEST 2026 -
  Benefit Concert
 X-WR-TIMEZONE:America/New_York
 BEGIN:VEVENT
 UID:awa
 refest2026@hbcuweeknow.com
 DTSTAMP:20251121T120000Z
 DTSTART\;TZID=Amer
 ica/New_York:20260326T190000
 DTEND\;TZID=America/New_York:20260326T23300
 0
 SUMMARY:HBCU AWARE FEST 2026 - Star-Studded Benefit Concert
 DESCRIPT
 ION:Join Robert F. Smith's Student Freedom Initiative for the ultimate HBC
 U fundraiser at State Farm Arena. Featuring GloRilla\\\, Jill Scott\\\, Jo
 hn Legend\\\, and more to fight student debt. Weeklong events March 21-26.
  All proceeds to HBCU relief.
 LOCATION:State Farm Arena\\\, 1 State Farm
  Dr\\\, Atlanta\\\, GA 30303\\\, USA
 GEO:33.7573\;-84.3963
 URL:https:/
 /www.awarefest.org/
 ORGANIZER\;CN=Student Freedom Initiative:mailto:info
 @awarefest.org
 STATUS:CONFIRMED
 CATEGORIES:HBCU\\\,Concert\\\,Fundrais
 er\\\,Debt Relief
 END:VEVENT
 END:VCALENDAR
LOCATION:State Farm Drive\, Atlanta\, 30303 Georgia\, United States
DTSTART:20260326T073000Z
DTSTAMP:20251121T163322Z
ORGANIZER;CN=HBCUWeekNOW:MAILTO:christina@hbcuweeknow.com
GEO:33.75737;-84.396385
X-APPLE-STRUCTURED-LOCATION;VALUE=URI;X-ADDRESS=State Farm Drive\, Atlanta\
 , 30303 Georgia\, United States;X-APPLE-RADIUS=72;X-TITLE=State Farm Arena
 :33.75737;-84.396385
END:VEVENT
END:VCALENDAR