BEGIN:VCALENDAR
VERSION:2.0
PRODID:Events Booking
BEGIN:VEVENT
UID:69ea3d450f04c
SUMMARY:NBA All-Star Weekend Hosts 2026 HBCU Classic Featuring Hampton & NC
  A&T
DESCRIPTION:BEGIN:VCALENDAR
 VERSION:2.0
 BEGIN:VEVENT
 UID:2026NBAHBCUC
 LASSIC@hbcuweeknow.com
 DTSTAMP:20250213T190000Z
 DTSTART:20260213T19000
 0Z
 DTEND:20260213T210000Z
 SUMMARY:2026 NBA HBCU Classic: Hampton vs. N
 orth Carolina A&T
 LOCATION:Los Angeles\, California
 DESCRIPTION:The 20
 26 NBA HBCU Classic presented by AT&T will feature the Hampton Pirates vs.
  NC A&T Aggies during NBA All-Star Weekend in Los Angeles.
 END:VEVENT
 
 END:VCALENDAR
LOCATION:3900 W Manchester Boulevard\, Inglewood\, 90305 California\, Unite
 d States
DTSTART:20260213T000000Z
DTSTAMP:20251121T190018Z
ORGANIZER;CN=HBCUWeekNOW:MAILTO:christina@hbcuweeknow.com
GEO:33.960478;-118.331404
X-APPLE-STRUCTURED-LOCATION;VALUE=URI;X-ADDRESS=3900 W Manchester Boulevard
 \, Inglewood\, 90305 California\, United States;X-APPLE-RADIUS=72;X-TITLE=
 Kia Forum:33.960478;-118.331404
END:VEVENT
END:VCALENDAR