BEGIN:VCALENDAR
VERSION:2.0
PRODID:Events Booking
BEGIN:VEVENT
UID:69ecf509a260b
SUMMARY:HBCU CHIPS 2026 Conference – Building the Future U.S. Semiconduct
 or Workforce
DESCRIPTION:BEGIN:VEVENT
 SUMMARY:2026 HBCU CHIPS Network National Confere
 nce
 DTSTART:20260914T090000
 DTEND:20260916T170000
 DESCRIPTION:The pr
 emier national gathering advancing HBCU excellence in the U.S. semiconduct
 or and microelectronics ecosystem. Featuring keynotes\\\, workshops\\\, re
 cruiting\\\, and networking.
 LOCATION:[Venue & City to be announced] –
  United States
 URL:https://www.hbcuweeknow.com/2026-hbcu-chips-conferenc
 e
 ORGANIZER:HBCU CHIPS Network
 STATUS:CONFIRMED
 END:VEVENT
LOCATION:866 W  Peachtree Street Northwest\, Atlanta\, 30303 Georgia\, Unit
 ed States
DTSTART:20260401T000000Z
DTEND:20260402T000000Z
DTSTAMP:20251121T204344Z
ORGANIZER;CN=HBCUWeekNOW:MAILTO:christina@hbcuweeknow.com
GEO:33.75944;-84.388376
X-APPLE-STRUCTURED-LOCATION;VALUE=URI;X-ADDRESS=866 W  Peachtree Street Nor
 thwest\, Atlanta\, 30303 Georgia\, United States;X-APPLE-RADIUS=72;X-TITLE
 =Renaissance Atlanta Midtown Hotel Ball Room :33.75944;-84.388376
END:VEVENT
END:VCALENDAR