BEGIN:VCALENDAR
VERSION:2.0
PRODID:Events Booking
BEGIN:VEVENT
UID:69e7a9441b22e
SUMMARY:HBCUniverse Summit 2026: Launchpad to Legacy – Morgan State Unive
 rsity (Baltimore\, MD)
DESCRIPTION:BEGIN:VCALENDAR
 VERSION:2.0
 PRODID:-//HBCUWeekNOW//HBCUnive
 rse Summit 2026//EN
 BEGIN:VEVENT
 UID:hbcuniverse2026@hbcuweeknow.com

  DTSTAMP:20251121T000000Z
 DTSTART:20260207T090000
 DTEND:20260207T18000
 0
 SUMMARY:HBCUniverse Summit 2026: Launchpad to Legacy
 LOCATION:Morgan
  State University Student Center\, 1700 E Cold Spring Ln\, Baltimore\, MD 
 21251\, USA
 DESCRIPTION:The premier HBCU innovation and tech conference 
 returns to Morgan State University on Feb 7\\\, 2026. Connect with Black f
 ounders\\\, VCs\\\, tech leaders and creatives. Theme: Launchpad to Legacy
 .
 URL:https://HBCUWeekNOW.com/hbcuniverse-summit-2026
 STATUS:CONFIRMED
 
 END:VEVENT
 END:VCALENDAR
LOCATION:East Cold 1700 Spring Lane\, Baltimore\, 21251 Maryland\, United S
 tates
DTSTART:20260207T000000Z
DTSTAMP:20251121T212343Z
ORGANIZER;CN=HBCUWeekNOW:MAILTO:christina@hbcuweeknow.com
GEO:39.344666;-76.583609
X-APPLE-STRUCTURED-LOCATION;VALUE=URI;X-ADDRESS=East Cold 1700 Spring Lane\
 , Baltimore\, 21251 Maryland\, United States;X-APPLE-RADIUS=72;X-TITLE=Mor
 gan State University:39.344666;-76.583609
END:VEVENT
END:VCALENDAR