BEGIN:VCALENDAR
VERSION:2.0
PRODID:Events Booking
BEGIN:VEVENT
UID:69e63557ef02a
SUMMARY:Food Lion CIAA Men's and Women's Basketball Tournament 2026
DESCRIPTION:Summary: 2026 Food Lion CIAA Basketball Tournament
 Location: 
 CFG Bank Arena\, Baltimore\, MD
 Start: 2026-02-23
 End: 2026-03-01
 De
 scription: The nation’s premier HBCU basketball tournament returns to Ba
 ltimore! Join thousands for championship week featuring men's and women's 
 games\, Fan Fest\, parties\, and HBCU culture.
 URL: Summary: 2026 Food L
 ion CIAA Basketball Tournament
 Location: CFG Bank Arena\, Baltimore\, MD
 
 Start: 2026-02-23
 End: 2026-03-01
 Description: The nation’s premi
 er HBCU basketball tournament returns to Baltimore! Join thousands for cha
 mpionship week featuring men's and women's games\, Fan Fest\, parties\, an
 d HBCU culture.
 URL: https://hbcuweeknow.com/events/2026-ciaa-tournament
 -baltimore
LOCATION:201 West Baltimore Street\, Baltimore\, 21201 Maryland\, United St
 ates
DTSTART:20260224T100000Z
DTEND:20260228T000000Z
DTSTAMP:20251202T200429Z
ORGANIZER;CN=HBCUWeekNOW:MAILTO:christina@hbcuweeknow.com
GEO:39.288604;-76.618709
X-APPLE-STRUCTURED-LOCATION;VALUE=URI;X-ADDRESS=201 West Baltimore Street\,
  Baltimore\, 21201 Maryland\, United States;X-APPLE-RADIUS=72;X-TITLE=CFG 
 Bank Arena Baltimore:39.288604;-76.618709
END:VEVENT
END:VCALENDAR