BEGIN:VCALENDAR
VERSION:2.0
PRODID:Events Booking
BEGIN:VEVENT
UID:69e8a61a303c5
SUMMARY:BIG HBCU SOUTHERN CLASSIC BATTLE OF THE BANDS Charlotte NC\, 2026
DESCRIPTION:BEGIN:VCALENDAR VERSION:2.0 PRODID:-//HBCUWeekNow//EN BEGIN:VEV
 ENT UID:20260124-hbcu-southern-classic@hbcuweeknow.com DTSTAMP:20251227T00
 0000Z DTSTART:20260124T170000Z DTEND:20260124T220000Z SUMMARY:BIG HBCU Sou
 thern Classic Battle of the Bands LOCATION:Bojangles Coliseum\, Charlotte\
 , NC DESCRIPTION:Witness top HBCU marching bands in a historic indoor batt
 le\, Fan Fest with vendors and food trucks\, hosted by DJ Envy. Tickets vi
 a Ticketmaster. URL:https://hbcuweeknow.com/upcoming-hbcu-events/hbcuweekn
 ows-event-calendar/37-big-hbcu-southern-classic-battle-of-the-bands-charlo
 tte-nc-2026 END:VEVENT END:VCALENDAR
LOCATION:2700 East Independence Expressway\, Charlotte\, 28205 North Caroli
 na\, United States
DTSTART:20260124T000000Z
DTSTAMP:20251227T071349Z
ORGANIZER;CN=HBCUWeekNOW:MAILTO:christina@hbcuweeknow.com
GEO:35.205018;-80.795171
X-APPLE-STRUCTURED-LOCATION;VALUE=URI;X-ADDRESS=2700 East Independence Expr
 essway\, Charlotte\, 28205 North Carolina\, United States;X-APPLE-RADIUS=7
 2;X-TITLE=Bojangles Coliseum Charlot\, NC:35.205018;-80.795171
END:VEVENT
END:VCALENDAR