BEGIN:VCALENDAR
VERSION:2.0
PRODID:Events Booking
BEGIN:VEVENT
UID:69e7a8f1a77f5
SUMMARY:Orange Blossom Classic Brings  Bulldogs & Rattlers to Hard Rock Sta
 dium Labor Day Weekend
DESCRIPTION:BEGIN:VCALENDAR
 VERSION:2.0
 PRODID:-//hbcuweeknow.com//Oran
 ge Blossom Classic 2026//EN
 BEGIN:VEVENT
 UID:obc-2026-scsu-famu@hbcuwe
 eknow.com
 DTSTAMP:20260226T000000Z
 DTSTART\;VALUE=DATE:20260906
 DTEN
 D\;VALUE=DATE:20260907
 SUMMARY:2026 Orange Blossom Classic - SCSU Bulldo
 gs vs FAMU Rattlers
 DESCRIPTION:South Carolina State Bulldogs vs Florida
  A&M Rattlers at Hard Rock Stadium\\\, Miami Gardens\\\, FL. Labor Day Wee
 kend HBCU football spectacular. Kickoff time TBA. Tickets on sale March 15
 \\\, 2026. Full weekend of cultural events\\\, community programs and half
 time entertainment. More info: https://www.orangeblossomclassic.com
 LOCA
 TION:Hard Rock Stadium\\\, 347 Don Shula Dr\\\, Miami Gardens\\\, FL 33056
 
 URL:https://hbcuweeknow.com/upcoming-hbcu-events
 STATUS:CONFIRMED
 C
 ATEGORIES:HBCU Football\,Orange Blossom Classic\,Sports\,Miami Gardens Eve
 nts
 END:VEVENT
 END:VCALENDAR
LOCATION:Don Shula Drive\, Miami Gardens\, 33056 Florida\, United States
DTSTART:20260906T000000Z
DTSTAMP:20260226T173305Z
ORGANIZER;CN=HBCUWeekNOW:MAILTO:christina@hbcuweeknow.com
GEO:25.957903;-80.23885
X-APPLE-STRUCTURED-LOCATION;VALUE=URI;X-ADDRESS=Don Shula Drive\, Miami Gar
 dens\, 33056 Florida\, United States;X-APPLE-RADIUS=72;X-TITLE=Hard Rock S
 tadium Miami:25.957903;-80.23885
END:VEVENT
END:VCALENDAR